BEGIN:VCALENDAR
VERSION:2.0
PRODID:-//Nutria LUG - ECPv4.6.8//NONSGML v1.0//EN
CALSCALE:GREGORIAN
METHOD:PUBLISH
X-WR-CALNAME:Nutria LUG
X-ORIGINAL-URL:https://pavia.linux.it
X-WR-CALDESC:Events for Nutria LUG
BEGIN:VEVENT
DTSTART;TZID=Europe/Rome:20170624T103000
DTEND;TZID=Europe/Rome:20170624T180000
DTSTAMP:20260425T150623
CREATED:20170619T155446Z
LAST-MODIFIED:20170619T162411Z
UID:182-1498300200-1498327200@pavia.linux.it
SUMMARY:Installation Party: ricolora l'Arsenale
DESCRIPTION:Ti sei mai chiesto cosa ci trovano le persone in Linux? Ti è mai venuto il dubbio che forse potrebbe essere adatto alle tue esigenze? Sapevi che è possibile recuperare vecchi PC ormai troppo lenti installandoci sopra Linux? \nIn occasione della manifestazione “Ricolora l’arsenale – Festa di riattivazione” saremo presenti anche noi del Nutria LUG! \nVieni a trovarci portando il tuo PC e avrai modo di provare la distribuzione Linux più adatta a te!\nAvremo a disposizione delle nostre macchine per vedere degli esempi pratici. \nCondividici sui social FacebookTwitterGoogle+
URL:https://pavia.linux.it/evento/installation-party-allarsenale-di-pavia/
LOCATION:Via Riviera\, 43\, Pavia\, 27100\, Italia
CATEGORIES:Installation Party
ATTACH;FMTTYPE=image/jpeg:https://pavia.linux.it/wp-content/uploads/graphics/locandina_arsenale_installation_party.jpg
ORGANIZER;CN="Nutria%20LUG":MAILTO:nutria.lug@gmail.com
END:VEVENT
END:VCALENDAR