BEGIN:VCALENDAR
VERSION:2.0
PRODID:-//Nutria LUG - ECPv4.6.8//NONSGML v1.0//EN
CALSCALE:GREGORIAN
METHOD:PUBLISH
X-WR-CALNAME:Nutria LUG
X-ORIGINAL-URL:https://pavia.linux.it
X-WR-CALDESC:Events for Nutria LUG
BEGIN:VEVENT
DTSTART;TZID=Europe/Rome:20181027T090000
DTEND;TZID=Europe/Rome:20181027T170000
DTSTAMP:20260425T144504
CREATED:20180920T175140Z
LAST-MODIFIED:20181019T220453Z
UID:337-1540630800-1540659600@pavia.linux.it
SUMMARY:Linux Day 2018
DESCRIPTION:Ecco il programma completo del Linux Day 2018 organizzato dal Nutria LUG! \n  \n \nCondividici sui social FacebookTwitterGoogle+
URL:https://pavia.linux.it/evento/linux-day-2018/
LOCATION:Piazza Leonardo Da Vinci\, Pavia\, PV\, 27100\, Italia
CATEGORIES:Linux Day
ORGANIZER;CN="Nutria%20LUG":MAILTO:nutria.lug@gmail.com
END:VEVENT
END:VCALENDAR